BEGIN:VCALENDAR
VERSION:2.0
PRODID:-//Tukios.com/
BEGIN:VEVENT
UID:1fb24c97-d075-4a58-a88d-32964a51511b@www.pepplerfh.com
DTSTAMP:20260419T220408Z
DTSTART:20260423T153000Z
DTEND:20260423T163000Z
SUMMARY:Funeral Service
DESCRIPTION:
URL:https://www.pepplerfh.com/obituaries/ida-ruch
LOCATION:Allentown Presbyterian Church 20 High Street  Allentown NJ 08501
GEO:40.1747145;-74.5873485
END:VEVENT
END:VCALENDAR