BEGIN:VCALENDAR
VERSION:2.0
PRODID:-//Tukios.com/
BEGIN:VEVENT
UID:33acc340-aced-47e2-9305-79755fe2ade5@www.pepplerfh.com
DTSTAMP:20260419T220857Z
DTSTART:20260423T140000Z
DTEND:20260423T153000Z
SUMMARY:Viewing
DESCRIPTION:
URL:https://www.pepplerfh.com/obituaries/ida-ruch
LOCATION:Allentown Presbyterian Church 20 High Street  Allentown NJ 08501
GEO:40.1747145;-74.5873485
END:VEVENT
END:VCALENDAR