BEGIN:VCALENDAR
VERSION:2.0
PRODID:-//Tukios.com/
BEGIN:VEVENT
UID:c9dbe0b0-8a64-4ce3-9ad6-f25876587bba@www.pepplerfh.com
DTSTAMP:20260424T171720Z
DTSTART:20260429T220000Z
DTEND:20260430T000000Z
SUMMARY:Visitation
DESCRIPTION:
URL:https://www.pepplerfh.com/obituaries/gregory-hupfl
LOCATION: 114 S Main St  Allentown NJ 08501
GEO:40.1746046;-74.5914532
END:VEVENT
END:VCALENDAR