BEGIN:VCALENDAR
VERSION:2.0
PRODID:-//Tukios.com/
BEGIN:VEVENT
UID:7d0ab175-ba55-454d-bb95-3b5418475929@www.pepplerfh.com
DTSTAMP:20260421T022415Z
DTSTART:20260424T140000Z
DTEND:20260424T150000Z
SUMMARY:Mass
DESCRIPTION:
URL:https://www.pepplerfh.com/obituaries/gloria-depinto
LOCATION: 28 Monmouth Road  Wrightstown NJ 08562
GEO:40.0763756;-74.5541488
END:VEVENT
END:VCALENDAR