BEGIN:VCALENDAR
VERSION:2.0
PRODID:-//Tukios.com/
BEGIN:VEVENT
UID:5a5f3e4c-ab2c-4283-ad1a-d5e002f17498@www.pepplerfh.com
DTSTAMP:20260421T022436Z
DTSTART:20260424T120000Z
DTEND:20260424T140000Z
SUMMARY:Viewing
DESCRIPTION:
URL:https://www.pepplerfh.com/obituaries/gloria-depinto
LOCATION: 28 Monmouth Road  Wrightstown NJ 08562
GEO:40.0763756;-74.5541488
END:VEVENT
END:VCALENDAR